BEGIN:VCALENDAR
VERSION:2.0
PRODID:-//Pollet Anim&#039; - ECPv6.15.18//NONSGML v1.0//EN
CALSCALE:GREGORIAN
METHOD:PUBLISH
X-WR-CALNAME:Pollet Anim&#039;
X-ORIGINAL-URL:http://www.polletanim.fr
X-WR-CALDESC:Évènements pour Pollet Anim&#039;
REFRESH-INTERVAL;VALUE=DURATION:PT1H
X-Robots-Tag:noindex
X-PUBLISHED-TTL:PT1H
BEGIN:VTIMEZONE
TZID:Europe/Paris
BEGIN:DAYLIGHT
TZOFFSETFROM:+0100
TZOFFSETTO:+0200
TZNAME:CEST
DTSTART:20190331T010000
END:DAYLIGHT
BEGIN:STANDARD
TZOFFSETFROM:+0200
TZOFFSETTO:+0100
TZNAME:CET
DTSTART:20191027T010000
END:STANDARD
BEGIN:DAYLIGHT
TZOFFSETFROM:+0100
TZOFFSETTO:+0200
TZNAME:CEST
DTSTART:20200329T010000
END:DAYLIGHT
BEGIN:STANDARD
TZOFFSETFROM:+0200
TZOFFSETTO:+0100
TZNAME:CET
DTSTART:20201025T010000
END:STANDARD
BEGIN:DAYLIGHT
TZOFFSETFROM:+0100
TZOFFSETTO:+0200
TZNAME:CEST
DTSTART:20210328T010000
END:DAYLIGHT
BEGIN:STANDARD
TZOFFSETFROM:+0200
TZOFFSETTO:+0100
TZNAME:CET
DTSTART:20211031T010000
END:STANDARD
END:VTIMEZONE
BEGIN:VEVENT
DTSTART;TZID=Europe/Paris:20201020T100000
DTEND;TZID=Europe/Paris:20201020T120000
DTSTAMP:20260419T223218
CREATED:20200929T082949Z
LAST-MODIFIED:20200929T082949Z
UID:3546-1603188000-1603195200@www.polletanim.fr
SUMMARY:Création de sac à bonbons
DESCRIPTION:Rendez vous à 10h au Centre Social et Culturel l’Archipel \nInscription obligatoire\, nombre de places limitées\, port du masque obligatoire
URL:http://www.polletanim.fr/animation/creation-de-sac-a-bonbons/
CATEGORIES:Jeunesse
ATTACH;FMTTYPE=image/png:http://www.polletanim.fr/wp-content/uploads/2020/09/halloween-151422_1280-Copie.png
END:VEVENT
BEGIN:VEVENT
DTSTART;TZID=Europe/Paris:20201020T140000
DTEND;TZID=Europe/Paris:20201020T180000
DTSTAMP:20260419T223218
CREATED:20200929T083104Z
LAST-MODIFIED:20200929T083104Z
UID:3549-1603202400-1603216800@www.polletanim.fr
SUMMARY:Sortie au cinéma
DESCRIPTION:Rendez vous à 14h au Centre Social et Culturel l’Archipel \nInscription obligatoire\, nombre de places limitées\, port du masque obligatoire
URL:http://www.polletanim.fr/animation/sortie-au-cinema/
CATEGORIES:Jeunesse
ATTACH;FMTTYPE=image/jpeg:http://www.polletanim.fr/wp-content/uploads/2020/09/film-1668918_1920-Copie.jpg
END:VEVENT
END:VCALENDAR