BEGIN:VCALENDAR
VERSION:2.0
PRODID:-//Pollet Anim&#039; - ECPv6.15.18//NONSGML v1.0//EN
CALSCALE:GREGORIAN
METHOD:PUBLISH
X-ORIGINAL-URL:http://www.polletanim.fr
X-WR-CALDESC:Évènements pour Pollet Anim&#039;
REFRESH-INTERVAL;VALUE=DURATION:PT1H
X-Robots-Tag:noindex
X-PUBLISHED-TTL:PT1H
BEGIN:VTIMEZONE
TZID:Europe/Paris
BEGIN:DAYLIGHT
TZOFFSETFROM:+0100
TZOFFSETTO:+0200
TZNAME:CEST
DTSTART:20190331T010000
END:DAYLIGHT
BEGIN:STANDARD
TZOFFSETFROM:+0200
TZOFFSETTO:+0100
TZNAME:CET
DTSTART:20191027T010000
END:STANDARD
BEGIN:DAYLIGHT
TZOFFSETFROM:+0100
TZOFFSETTO:+0200
TZNAME:CEST
DTSTART:20200329T010000
END:DAYLIGHT
BEGIN:STANDARD
TZOFFSETFROM:+0200
TZOFFSETTO:+0100
TZNAME:CET
DTSTART:20201025T010000
END:STANDARD
BEGIN:DAYLIGHT
TZOFFSETFROM:+0100
TZOFFSETTO:+0200
TZNAME:CEST
DTSTART:20210328T010000
END:DAYLIGHT
BEGIN:STANDARD
TZOFFSETFROM:+0200
TZOFFSETTO:+0100
TZNAME:CET
DTSTART:20211031T010000
END:STANDARD
END:VTIMEZONE
BEGIN:VEVENT
DTSTART;TZID=Europe/Paris:20201021T100000
DTEND;TZID=Europe/Paris:20201021T120000
DTSTAMP:20260420T002942
CREATED:20200929T084316Z
LAST-MODIFIED:20200929T084316Z
UID:3551-1603274400-1603281600@www.polletanim.fr
SUMMARY:Jeux autour des origines d'Halloween
DESCRIPTION:Rendez vous à 14h au Centre Social et Culturel l’Archipel \nInscription obligatoire\, nombre de places limitées\, port du masque obligatoire
URL:http://www.polletanim.fr/animation/jeux-autour-des-origines-dhalloween/
CATEGORIES:Jeunesse
ATTACH;FMTTYPE=image/png:http://www.polletanim.fr/wp-content/uploads/2020/09/background-1298031_1280-Copie.png
END:VEVENT
BEGIN:VEVENT
DTSTART;TZID=Europe/Paris:20201021T140000
DTEND;TZID=Europe/Paris:20201021T180000
DTSTAMP:20260420T002942
CREATED:20200929T084518Z
LAST-MODIFIED:20200929T084518Z
UID:3554-1603288800-1603303200@www.polletanim.fr
SUMMARY:A la découverte de l'Irlande
DESCRIPTION:Rendez vous à 14h au Centre Social et Culturel l’Archipel \nInscription obligatoire\, nombre de places limitées\, port du masque obligatoire
URL:http://www.polletanim.fr/animation/a-la-decouverte-de-lirlande/
CATEGORIES:Jeunesse
ATTACH;FMTTYPE=image/jpeg:http://www.polletanim.fr/wp-content/uploads/2020/09/ireland.jpg
END:VEVENT
END:VCALENDAR