BEGIN:VCALENDAR
VERSION:2.0
PRODID:-//Pollet Anim&#039; - ECPv6.15.18//NONSGML v1.0//EN
CALSCALE:GREGORIAN
METHOD:PUBLISH
X-WR-CALNAME:Pollet Anim&#039;
X-ORIGINAL-URL:http://www.polletanim.fr
X-WR-CALDESC:Évènements pour Pollet Anim&#039;
REFRESH-INTERVAL;VALUE=DURATION:PT1H
X-Robots-Tag:noindex
X-PUBLISHED-TTL:PT1H
BEGIN:VTIMEZONE
TZID:Europe/Paris
BEGIN:DAYLIGHT
TZOFFSETFROM:+0100
TZOFFSETTO:+0200
TZNAME:CEST
DTSTART:20190331T010000
END:DAYLIGHT
BEGIN:STANDARD
TZOFFSETFROM:+0200
TZOFFSETTO:+0100
TZNAME:CET
DTSTART:20191027T010000
END:STANDARD
BEGIN:DAYLIGHT
TZOFFSETFROM:+0100
TZOFFSETTO:+0200
TZNAME:CEST
DTSTART:20200329T010000
END:DAYLIGHT
BEGIN:STANDARD
TZOFFSETFROM:+0200
TZOFFSETTO:+0100
TZNAME:CET
DTSTART:20201025T010000
END:STANDARD
BEGIN:DAYLIGHT
TZOFFSETFROM:+0100
TZOFFSETTO:+0200
TZNAME:CEST
DTSTART:20210328T010000
END:DAYLIGHT
BEGIN:STANDARD
TZOFFSETFROM:+0200
TZOFFSETTO:+0100
TZNAME:CET
DTSTART:20211031T010000
END:STANDARD
END:VTIMEZONE
BEGIN:VEVENT
DTSTART;TZID=Europe/Paris:20201022T100000
DTEND;TZID=Europe/Paris:20201022T120000
DTSTAMP:20260420T021326
CREATED:20200929T084716Z
LAST-MODIFIED:20200929T084716Z
UID:3557-1603360800-1603368000@www.polletanim.fr
SUMMARY:Créez votre fantôme
DESCRIPTION:Rendez vous à 10h au Centre Social et Culturel l’Archipel \nInscription obligatoire\, nombre de places limitées\, port du masque obligatoire
URL:http://www.polletanim.fr/animation/creez-votre-fantome/
CATEGORIES:Jeunesse
ATTACH;FMTTYPE=image/png:http://www.polletanim.fr/wp-content/uploads/2020/09/ghost-151246_1280.png
END:VEVENT
BEGIN:VEVENT
DTSTART;TZID=Europe/Paris:20201022T140000
DTEND;TZID=Europe/Paris:20201022T180000
DTSTAMP:20260420T021326
CREATED:20200929T085021Z
LAST-MODIFIED:20200929T085021Z
UID:3560-1603375200-1603389600@www.polletanim.fr
SUMMARY:Décorons l'Archipel
DESCRIPTION:Rendez vous à 14h au Centre Social et Culturel l’Archipel \nInscription obligatoire\, nombre de places limitées\, port du masque obligatoire
URL:http://www.polletanim.fr/animation/decorons-larchipel/
CATEGORIES:Jeunesse
ATTACH;FMTTYPE=image/png:http://www.polletanim.fr/wp-content/uploads/2020/09/foliage-150680_1280.png
END:VEVENT
END:VCALENDAR