BEGIN:VCALENDAR
VERSION:2.0
PRODID:-//Pollet Anim&#039; - ECPv6.15.18//NONSGML v1.0//EN
CALSCALE:GREGORIAN
METHOD:PUBLISH
X-ORIGINAL-URL:http://www.polletanim.fr
X-WR-CALDESC:Évènements pour Pollet Anim&#039;
REFRESH-INTERVAL;VALUE=DURATION:PT1H
X-Robots-Tag:noindex
X-PUBLISHED-TTL:PT1H
BEGIN:VTIMEZONE
TZID:Europe/Paris
BEGIN:DAYLIGHT
TZOFFSETFROM:+0100
TZOFFSETTO:+0200
TZNAME:CEST
DTSTART:20190331T010000
END:DAYLIGHT
BEGIN:STANDARD
TZOFFSETFROM:+0200
TZOFFSETTO:+0100
TZNAME:CET
DTSTART:20191027T010000
END:STANDARD
BEGIN:DAYLIGHT
TZOFFSETFROM:+0100
TZOFFSETTO:+0200
TZNAME:CEST
DTSTART:20200329T010000
END:DAYLIGHT
BEGIN:STANDARD
TZOFFSETFROM:+0200
TZOFFSETTO:+0100
TZNAME:CET
DTSTART:20201025T010000
END:STANDARD
BEGIN:DAYLIGHT
TZOFFSETFROM:+0100
TZOFFSETTO:+0200
TZNAME:CEST
DTSTART:20210328T010000
END:DAYLIGHT
BEGIN:STANDARD
TZOFFSETFROM:+0200
TZOFFSETTO:+0100
TZNAME:CET
DTSTART:20211031T010000
END:STANDARD
END:VTIMEZONE
BEGIN:VEVENT
DTSTART;TZID=Europe/Paris:20201118T100000
DTEND;TZID=Europe/Paris:20201118T120000
DTSTAMP:20260421T025039
CREATED:20201103T094739Z
LAST-MODIFIED:20201105T151413Z
UID:4289-1605693600-1605700800@www.polletanim.fr
SUMMARY:Créer ton sable magique
DESCRIPTION:Rendez vous à 10h au Centre Social et Culturel l’Archipel Inscription obligatoire\, nombre de places limitées\, port du masque obligatoire.
URL:http://www.polletanim.fr/animation/creer-ton-sable-magique/
CATEGORIES:Jeunesse
ATTACH;FMTTYPE=image/png:http://www.polletanim.fr/wp-content/uploads/2020/11/sandbox-295256_1280.png
END:VEVENT
BEGIN:VEVENT
DTSTART;TZID=Europe/Paris:20201118T140000
DTEND;TZID=Europe/Paris:20201118T180000
DTSTAMP:20260421T025039
CREATED:20201103T095048Z
LAST-MODIFIED:20201103T095048Z
UID:4292-1605708000-1605722400@www.polletanim.fr
SUMMARY:Lait coloré
DESCRIPTION:Rendez vous à 14h au Centre Social et Culturel l’Archipel Inscription obligatoire\, nombre de places limitées\, port du masque obligatoire.
URL:http://www.polletanim.fr/animation/lait-colore-2/
CATEGORIES:Jeunesse
ATTACH;FMTTYPE=image/png:http://www.polletanim.fr/wp-content/uploads/2020/11/milk-2028856_1280.png
END:VEVENT
END:VCALENDAR