BEGIN:VCALENDAR
VERSION:2.0
PRODID:-//Pollet Anim&#039; - ECPv6.15.18//NONSGML v1.0//EN
CALSCALE:GREGORIAN
METHOD:PUBLISH
X-WR-CALNAME:Pollet Anim&#039;
X-ORIGINAL-URL:http://www.polletanim.fr
X-WR-CALDESC:Évènements pour Pollet Anim&#039;
REFRESH-INTERVAL;VALUE=DURATION:PT1H
X-Robots-Tag:noindex
X-PUBLISHED-TTL:PT1H
BEGIN:VTIMEZONE
TZID:Europe/Paris
BEGIN:DAYLIGHT
TZOFFSETFROM:+0100
TZOFFSETTO:+0200
TZNAME:CEST
DTSTART:20190331T010000
END:DAYLIGHT
BEGIN:STANDARD
TZOFFSETFROM:+0200
TZOFFSETTO:+0100
TZNAME:CET
DTSTART:20191027T010000
END:STANDARD
BEGIN:DAYLIGHT
TZOFFSETFROM:+0100
TZOFFSETTO:+0200
TZNAME:CEST
DTSTART:20200329T010000
END:DAYLIGHT
BEGIN:STANDARD
TZOFFSETFROM:+0200
TZOFFSETTO:+0100
TZNAME:CET
DTSTART:20201025T010000
END:STANDARD
BEGIN:DAYLIGHT
TZOFFSETFROM:+0100
TZOFFSETTO:+0200
TZNAME:CEST
DTSTART:20210328T010000
END:DAYLIGHT
BEGIN:STANDARD
TZOFFSETFROM:+0200
TZOFFSETTO:+0100
TZNAME:CET
DTSTART:20211031T010000
END:STANDARD
END:VTIMEZONE
BEGIN:VEVENT
DTSTART;TZID=Europe/Paris:20201125T100000
DTEND;TZID=Europe/Paris:20201125T120000
DTSTAMP:20260421T062031
CREATED:20201103T095422Z
LAST-MODIFIED:20201105T150912Z
UID:4295-1606298400-1606305600@www.polletanim.fr
SUMMARY:Bocal fluorescent
DESCRIPTION:Rendez vous à 10h au Centre Social et Culturel l’Archipel Inscription obligatoire\, nombre de places limitées\, port du masque obligatoire.
URL:http://www.polletanim.fr/animation/bocal-fluorescent-2/
CATEGORIES:Jeunesse
ATTACH;FMTTYPE=image/jpeg:http://www.polletanim.fr/wp-content/uploads/2020/11/marker-pen-1600457_1920.jpg
END:VEVENT
BEGIN:VEVENT
DTSTART;TZID=Europe/Paris:20201125T140000
DTEND;TZID=Europe/Paris:20201125T180000
DTSTAMP:20260421T062031
CREATED:20201016T081517Z
LAST-MODIFIED:20201105T150931Z
UID:3810-1606312800-1606327200@www.polletanim.fr
SUMMARY:Lampe à lave fluorescente
DESCRIPTION:Rendez vous à 14h au Centre Social et Culturel l’Archipel Inscription obligatoire\, nombre de places limitées\, port du masque obligatoire.
URL:http://www.polletanim.fr/animation/lampe-a-lave-fluorescente/
CATEGORIES:Jeunesse
ATTACH;FMTTYPE=image/jpeg:http://www.polletanim.fr/wp-content/uploads/2020/10/light-938560_1920.jpg
END:VEVENT
BEGIN:VEVENT
DTSTART;TZID=Europe/Paris:20201125T140000
DTEND;TZID=Europe/Paris:20201125T180000
DTSTAMP:20260421T062031
CREATED:20201103T095830Z
LAST-MODIFIED:20201109T125059Z
UID:4300-1606312800-1606327200@www.polletanim.fr
SUMMARY:Création d'un calendrier de l'avent
DESCRIPTION:Rendez vous à 14h au Centre Social et Culturel l’Archipel Inscription obligatoire\, nombre de places limitées\, port du masque obligatoire.
URL:http://www.polletanim.fr/animation/creation-dun-calendrier-de-lavant-2/
CATEGORIES:Jeunesse
ATTACH;FMTTYPE=image/jpeg:http://www.polletanim.fr/wp-content/uploads/2020/11/advent-calendar-2999384_1920.jpg
END:VEVENT
END:VCALENDAR