BEGIN:VCALENDAR
VERSION:2.0
PRODID:-//Pollet Anim&#039; - ECPv6.15.18//NONSGML v1.0//EN
CALSCALE:GREGORIAN
METHOD:PUBLISH
X-ORIGINAL-URL:http://www.polletanim.fr
X-WR-CALDESC:Évènements pour Pollet Anim&#039;
REFRESH-INTERVAL;VALUE=DURATION:PT1H
X-Robots-Tag:noindex
X-PUBLISHED-TTL:PT1H
BEGIN:VTIMEZONE
TZID:Europe/Paris
BEGIN:DAYLIGHT
TZOFFSETFROM:+0100
TZOFFSETTO:+0200
TZNAME:CEST
DTSTART:20200329T010000
END:DAYLIGHT
BEGIN:STANDARD
TZOFFSETFROM:+0200
TZOFFSETTO:+0100
TZNAME:CET
DTSTART:20201025T010000
END:STANDARD
BEGIN:DAYLIGHT
TZOFFSETFROM:+0100
TZOFFSETTO:+0200
TZNAME:CEST
DTSTART:20210328T010000
END:DAYLIGHT
BEGIN:STANDARD
TZOFFSETFROM:+0200
TZOFFSETTO:+0100
TZNAME:CET
DTSTART:20211031T010000
END:STANDARD
BEGIN:DAYLIGHT
TZOFFSETFROM:+0100
TZOFFSETTO:+0200
TZNAME:CEST
DTSTART:20220327T010000
END:DAYLIGHT
BEGIN:STANDARD
TZOFFSETFROM:+0200
TZOFFSETTO:+0100
TZNAME:CET
DTSTART:20221030T010000
END:STANDARD
END:VTIMEZONE
BEGIN:VEVENT
DTSTART;TZID=Europe/Paris:20210127T100000
DTEND;TZID=Europe/Paris:20210127T120000
DTSTAMP:20260422T101053
CREATED:20201218T142844Z
LAST-MODIFIED:20201218T142845Z
UID:4516-1611741600-1611748800@www.polletanim.fr
SUMMARY:Jeux de cartes
DESCRIPTION:Rendez vous à 10h au Centre Social et Culturel l’Archipel \nInscription obligatoire\, nombre de places limitées\, port du masque obligatoire.
URL:http://www.polletanim.fr/animation/jeux-de-cartes-2/
CATEGORIES:Jeunesse
ATTACH;FMTTYPE=image/png:http://www.polletanim.fr/wp-content/uploads/2020/12/cards-98382_1280.png
END:VEVENT
BEGIN:VEVENT
DTSTART;TZID=Europe/Paris:20210127T140000
DTEND;TZID=Europe/Paris:20210127T180000
DTSTAMP:20260422T101053
CREATED:20201218T143331Z
LAST-MODIFIED:20201218T143331Z
UID:4519-1611756000-1611770400@www.polletanim.fr
SUMMARY:Initiation Curling
DESCRIPTION:Rendez vous à 14h au Centre Social et Culturel l’Archipel \nInscription obligatoire\, nombre de places limitées\, port du masque obligatoire.
URL:http://www.polletanim.fr/animation/initiation-curling/
CATEGORIES:Jeunesse
ATTACH;FMTTYPE=image/jpeg:http://www.polletanim.fr/wp-content/uploads/2020/11/curling-competition-3233959_1920.jpg
END:VEVENT
END:VCALENDAR