BEGIN:VCALENDAR
VERSION:2.0
PRODID:-//Pollet Anim&#039; - ECPv6.15.18//NONSGML v1.0//EN
CALSCALE:GREGORIAN
METHOD:PUBLISH
X-WR-CALNAME:Pollet Anim&#039;
X-ORIGINAL-URL:http://www.polletanim.fr
X-WR-CALDESC:Évènements pour Pollet Anim&#039;
REFRESH-INTERVAL;VALUE=DURATION:PT1H
X-Robots-Tag:noindex
X-PUBLISHED-TTL:PT1H
BEGIN:VTIMEZONE
TZID:Europe/Paris
BEGIN:DAYLIGHT
TZOFFSETFROM:+0100
TZOFFSETTO:+0200
TZNAME:CEST
DTSTART:20200329T010000
END:DAYLIGHT
BEGIN:STANDARD
TZOFFSETFROM:+0200
TZOFFSETTO:+0100
TZNAME:CET
DTSTART:20201025T010000
END:STANDARD
BEGIN:DAYLIGHT
TZOFFSETFROM:+0100
TZOFFSETTO:+0200
TZNAME:CEST
DTSTART:20210328T010000
END:DAYLIGHT
BEGIN:STANDARD
TZOFFSETFROM:+0200
TZOFFSETTO:+0100
TZNAME:CET
DTSTART:20211031T010000
END:STANDARD
BEGIN:DAYLIGHT
TZOFFSETFROM:+0100
TZOFFSETTO:+0200
TZNAME:CEST
DTSTART:20220327T010000
END:DAYLIGHT
BEGIN:STANDARD
TZOFFSETFROM:+0200
TZOFFSETTO:+0100
TZNAME:CET
DTSTART:20221030T010000
END:STANDARD
END:VTIMEZONE
BEGIN:VEVENT
DTSTART;TZID=Europe/Paris:20210324T100000
DTEND;TZID=Europe/Paris:20210324T120000
DTSTAMP:20260423T174737
CREATED:20210304T144937Z
LAST-MODIFIED:20210304T145105Z
UID:5083-1616580000-1616587200@www.polletanim.fr
SUMMARY:Newsletter du mois de mars
DESCRIPTION:Rendez vous à 10h au Centre Social et Culturel l’Archipel. \nNombre de places limitées\, inscription et port du masque obligatoire.
URL:http://www.polletanim.fr/animation/newsletter-du-mois-de-mars/
CATEGORIES:Jeunesse
ATTACH;FMTTYPE=image/jpeg:http://www.polletanim.fr/wp-content/uploads/2021/03/newsletter-4308826_1280.jpg
END:VEVENT
BEGIN:VEVENT
DTSTART;TZID=Europe/Paris:20210324T140000
DTEND;TZID=Europe/Paris:20210324T180000
DTSTAMP:20260423T174737
CREATED:20210304T145700Z
LAST-MODIFIED:20210304T145700Z
UID:5086-1616594400-1616608800@www.polletanim.fr
SUMMARY:Initiation lutte
DESCRIPTION:Rendez vous à 14h au Centre Social et Culturel l’Archipel. \nNombre de places limitées\, inscription et port du masque obligatoire.
URL:http://www.polletanim.fr/animation/initiation-lutte/
CATEGORIES:Jeunesse
ATTACH;FMTTYPE=image/jpeg:http://www.polletanim.fr/wp-content/uploads/2021/03/wrestle-3793900_1280.jpg
END:VEVENT
END:VCALENDAR