BEGIN:VCALENDAR
VERSION:2.0
PRODID:-//Pollet Anim&#039; - ECPv6.15.18//NONSGML v1.0//EN
CALSCALE:GREGORIAN
METHOD:PUBLISH
X-WR-CALNAME:Pollet Anim&#039;
X-ORIGINAL-URL:http://www.polletanim.fr
X-WR-CALDESC:Évènements pour Pollet Anim&#039;
REFRESH-INTERVAL;VALUE=DURATION:PT1H
X-Robots-Tag:noindex
X-PUBLISHED-TTL:PT1H
BEGIN:VTIMEZONE
TZID:Europe/Paris
BEGIN:DAYLIGHT
TZOFFSETFROM:+0100
TZOFFSETTO:+0200
TZNAME:CEST
DTSTART:20200329T010000
END:DAYLIGHT
BEGIN:STANDARD
TZOFFSETFROM:+0200
TZOFFSETTO:+0100
TZNAME:CET
DTSTART:20201025T010000
END:STANDARD
BEGIN:DAYLIGHT
TZOFFSETFROM:+0100
TZOFFSETTO:+0200
TZNAME:CEST
DTSTART:20210328T010000
END:DAYLIGHT
BEGIN:STANDARD
TZOFFSETFROM:+0200
TZOFFSETTO:+0100
TZNAME:CET
DTSTART:20211031T010000
END:STANDARD
BEGIN:DAYLIGHT
TZOFFSETFROM:+0100
TZOFFSETTO:+0200
TZNAME:CEST
DTSTART:20220327T010000
END:DAYLIGHT
BEGIN:STANDARD
TZOFFSETFROM:+0200
TZOFFSETTO:+0100
TZNAME:CET
DTSTART:20221030T010000
END:STANDARD
END:VTIMEZONE
BEGIN:VEVENT
DTSTART;TZID=Europe/Paris:20211102T100000
DTEND;TZID=Europe/Paris:20211102T120000
DTSTAMP:20260425T230043
CREATED:20211012T133300Z
LAST-MODIFIED:20211012T133300Z
UID:7757-1635847200-1635854400@www.polletanim.fr
SUMMARY:Multisport
DESCRIPTION:Rendez vous à 10h au centre social et culturel l’Archipel \nInscription obligatoire\, nombre de places limitées\, port de masque obligatoire
URL:http://www.polletanim.fr/animation/multisport/
CATEGORIES:Jeunesse
ATTACH;FMTTYPE=image/jpeg:http://www.polletanim.fr/wp-content/uploads/2021/10/sports-g64a6cd238_1920.jpg
END:VEVENT
BEGIN:VEVENT
DTSTART;TZID=Europe/Paris:20211102T140000
DTEND;TZID=Europe/Paris:20211102T180000
DTSTAMP:20260425T230043
CREATED:20211012T133534Z
LAST-MODIFIED:20211012T133534Z
UID:7760-1635861600-1635876000@www.polletanim.fr
SUMMARY:Création cerf-volant et puring (Atelier peinture)
DESCRIPTION:Rendez vous à 14h au centre social et culturel l’Archipel \nInscription obligatoire\, nombre de places limitées\, port de masque obligatoire
URL:http://www.polletanim.fr/animation/creation-cerf-volant-et-puring-atelier-peinture/
CATEGORIES:Jeunesse
ATTACH;FMTTYPE=image/png:http://www.polletanim.fr/wp-content/uploads/2021/10/kite-gd904f9d4a_1280.png
END:VEVENT
END:VCALENDAR