BEGIN:VCALENDAR
VERSION:2.0
PRODID:-//Pollet Anim&#039; - ECPv6.15.18//NONSGML v1.0//EN
CALSCALE:GREGORIAN
METHOD:PUBLISH
X-WR-CALNAME:Pollet Anim&#039;
X-ORIGINAL-URL:https://www.polletanim.fr
X-WR-CALDESC:Évènements pour Pollet Anim&#039;
REFRESH-INTERVAL;VALUE=DURATION:PT1H
X-Robots-Tag:noindex
X-PUBLISHED-TTL:PT1H
BEGIN:VTIMEZONE
TZID:Europe/Paris
BEGIN:DAYLIGHT
TZOFFSETFROM:+0100
TZOFFSETTO:+0200
TZNAME:CEST
DTSTART:20220327T010000
END:DAYLIGHT
BEGIN:STANDARD
TZOFFSETFROM:+0200
TZOFFSETTO:+0100
TZNAME:CET
DTSTART:20221030T010000
END:STANDARD
BEGIN:DAYLIGHT
TZOFFSETFROM:+0100
TZOFFSETTO:+0200
TZNAME:CEST
DTSTART:20230326T010000
END:DAYLIGHT
BEGIN:STANDARD
TZOFFSETFROM:+0200
TZOFFSETTO:+0100
TZNAME:CET
DTSTART:20231029T010000
END:STANDARD
BEGIN:DAYLIGHT
TZOFFSETFROM:+0100
TZOFFSETTO:+0200
TZNAME:CEST
DTSTART:20240331T010000
END:DAYLIGHT
BEGIN:STANDARD
TZOFFSETFROM:+0200
TZOFFSETTO:+0100
TZNAME:CET
DTSTART:20241027T010000
END:STANDARD
END:VTIMEZONE
BEGIN:VEVENT
DTSTART;TZID=Europe/Paris:20230201T100000
DTEND;TZID=Europe/Paris:20230201T120000
DTSTAMP:20260420T131707
CREATED:20230124T090409Z
LAST-MODIFIED:20230124T090409Z
UID:13264-1675245600-1675252800@www.polletanim.fr
SUMMARY:Renforcement musculaire adultes
DESCRIPTION:Rendez vous à 10h00 au Centre Social et Culturel l’Archipel. \nInscription obligatoire\, nombre de places limitées.
URL:https://www.polletanim.fr/animation/renforcement-musculaire-adultes-2/
LOCATION:Archipel\, Dieppe
CATEGORIES:Adultes
ATTACH;FMTTYPE=image/jpeg:https://www.polletanim.fr/wp-content/uploads/2023/01/physiotherapy-595529__340.jpg
END:VEVENT
BEGIN:VEVENT
DTSTART;TZID=Europe/Paris:20230201T140000
DTEND;TZID=Europe/Paris:20230201T180000
DTSTAMP:20260420T131707
CREATED:20230124T091310Z
LAST-MODIFIED:20230124T091310Z
UID:13267-1675260000-1675274400@www.polletanim.fr
SUMMARY:Fabrication de diffuseur d'huiles essentielles
DESCRIPTION:Rendez vous à 14h00 au Pollet. \nInscription obligatoire\, nombre de places limitées.
URL:https://www.polletanim.fr/animation/fabrication-de-diffuseur-dhuiles-essentielles/
LOCATION:Le Pollet Dieppe 76200\, Le Pollet \, Dieppe\, 76200\, France
CATEGORIES:Adultes,Animation famille
ATTACH;FMTTYPE=image/jpeg:https://www.polletanim.fr/wp-content/uploads/2023/01/istockphoto-1366419259-170667a.jpg
END:VEVENT
BEGIN:VEVENT
DTSTART;TZID=Europe/Paris:20230202T100000
DTEND;TZID=Europe/Paris:20230202T120000
DTSTAMP:20260420T131707
CREATED:20230124T091635Z
LAST-MODIFIED:20230124T091635Z
UID:13270-1675332000-1675339200@www.polletanim.fr
SUMMARY:Sophrologie
DESCRIPTION:Rendez vous à 10h00 au Centre Social et Culturel l’Archipel. \nInscription obligatoire\, nombre de places limitées.
URL:https://www.polletanim.fr/animation/sophrologie-42/
LOCATION:Archipel\, Dieppe
CATEGORIES:Adultes
ATTACH;FMTTYPE=image/webp:https://www.polletanim.fr/wp-content/uploads/2022/12/yoga-4650150__340.webp
END:VEVENT
BEGIN:VEVENT
DTSTART;TZID=Europe/Paris:20230203T133000
DTEND;TZID=Europe/Paris:20230203T163000
DTSTAMP:20260420T131707
CREATED:20230124T092111Z
LAST-MODIFIED:20230124T092111Z
UID:13273-1675431000-1675441800@www.polletanim.fr
SUMMARY:Marche nordique
DESCRIPTION:Rendez vous à 13h30 au Centre Social et Culturel l’Archipel. \nInscription obligatoire\, nombre de places limitées.
URL:https://www.polletanim.fr/animation/marche-nordique-12/
LOCATION:Archipel\, Dieppe
CATEGORIES:Adultes
ATTACH;FMTTYPE=image/jpeg:https://www.polletanim.fr/wp-content/uploads/2023/01/istockphoto-172147970-170667a-1.jpg
END:VEVENT
BEGIN:VEVENT
DTSTART;TZID=Europe/Paris:20230206T140000
DTEND;TZID=Europe/Paris:20230206T160000
DTSTAMP:20260420T131707
CREATED:20230124T094322Z
LAST-MODIFIED:20230124T094322Z
UID:13281-1675692000-1675699200@www.polletanim.fr
SUMMARY:Socio Esthétique
DESCRIPTION:Rendez vous à 14h00 au Centre Social et Culturel l’Archipel. \nInscription obligatoire\, nombre de places limitées.
URL:https://www.polletanim.fr/animation/socio-esthetique/
LOCATION:Archipel\, Dieppe
CATEGORIES:Adultes
ATTACH;FMTTYPE=image/jpeg:https://www.polletanim.fr/wp-content/uploads/2023/01/istockphoto-143920428-170667a.jpg
END:VEVENT
BEGIN:VEVENT
DTSTART;TZID=Europe/Paris:20230208T100000
DTEND;TZID=Europe/Paris:20230208T120000
DTSTAMP:20260420T131707
CREATED:20230124T094959Z
LAST-MODIFIED:20230124T094959Z
UID:13284-1675850400-1675857600@www.polletanim.fr
SUMMARY:Step adultes
DESCRIPTION:Rendez vous à 10h00 au Centre Social et Culturel l’Archipel. \nInscription obligatoire\, nombre de places limitées.
URL:https://www.polletanim.fr/animation/step-adultes-4/
LOCATION:Archipel\, Dieppe
CATEGORIES:Adultes
ATTACH;FMTTYPE=image/jpeg:https://www.polletanim.fr/wp-content/uploads/2023/01/istockphoto-517963642-170667a.jpg
END:VEVENT
BEGIN:VEVENT
DTSTART;TZID=Europe/Paris:20230208T140000
DTEND;TZID=Europe/Paris:20230208T180000
DTSTAMP:20260420T131707
CREATED:20230124T100703Z
LAST-MODIFIED:20230124T100703Z
UID:13289-1675864800-1675879200@www.polletanim.fr
SUMMARY:Fabrication de guirlandes en feuilles végétales séchées
DESCRIPTION:Rendez vous à 14h00 au Centre Social et Culturel l’Archipel. \nInscription obligatoire\, nombre de places limitées.
URL:https://www.polletanim.fr/animation/fabrication-de-guirlandes-en-feuilles-vegetales-sechees/
LOCATION:Archipel\, Dieppe
CATEGORIES:Adultes,Animation famille
ATTACH;FMTTYPE=image/jpeg:https://www.polletanim.fr/wp-content/uploads/2023/01/flowers-5035959__340.jpg
END:VEVENT
BEGIN:VEVENT
DTSTART;TZID=Europe/Paris:20230209T100000
DTEND;TZID=Europe/Paris:20230209T120000
DTSTAMP:20260420T131707
CREATED:20230124T101014Z
LAST-MODIFIED:20230124T101014Z
UID:13293-1675936800-1675944000@www.polletanim.fr
SUMMARY:Sophrologie
DESCRIPTION:Rendez vous à 10h00 au Centre Social et Culturel l’Archipel. \nInscription obligatoire\, nombre de places limitées.
URL:https://www.polletanim.fr/animation/sophrologie-43/
LOCATION:Archipel\, Dieppe
CATEGORIES:Adultes
ATTACH;FMTTYPE=image/webp:https://www.polletanim.fr/wp-content/uploads/2022/12/yoga-4650150__340.webp
END:VEVENT
BEGIN:VEVENT
DTSTART;TZID=Europe/Paris:20230210T083000
DTEND;TZID=Europe/Paris:20230210T120000
DTSTAMP:20260420T131707
CREATED:20230124T102130Z
LAST-MODIFIED:20230124T102130Z
UID:13295-1676017800-1676030400@www.polletanim.fr
SUMMARY:Atelier petite conserverie
DESCRIPTION:Rendez vous à 8h30 au Centre Social et Culturel l’Archipel. \nInscription obligatoire\, nombre de places limitées. \nPriorité aux personnes participantes aux ateliers petite conserverie adultes.
URL:https://www.polletanim.fr/animation/atelier-petite-conserverie-5/
LOCATION:Archipel\, Dieppe
CATEGORIES:Adultes
ATTACH;FMTTYPE=image/jpeg:https://www.polletanim.fr/wp-content/uploads/2023/01/jar-1274700__340.jpg
END:VEVENT
BEGIN:VEVENT
DTSTART;TZID=Europe/Paris:20230213T140000
DTEND;TZID=Europe/Paris:20230213T180000
DTSTAMP:20260420T131707
CREATED:20230124T102810Z
LAST-MODIFIED:20230124T102810Z
UID:13298-1676296800-1676311200@www.polletanim.fr
SUMMARY:Jeux en folies
DESCRIPTION:Rendez vous à 14h00 au Pollet. \nInscription obligatoire\, nombre de places limitées.
URL:https://www.polletanim.fr/animation/jeux-en-folies/
LOCATION:Le Pollet Dieppe 76200\, Le Pollet \, Dieppe\, 76200\, France
CATEGORIES:Adultes,Animation famille
ATTACH;FMTTYPE=image/jpeg:https://www.polletanim.fr/wp-content/uploads/2023/01/board-games-460340__340-1.jpg
END:VEVENT
BEGIN:VEVENT
DTSTART;TZID=Europe/Paris:20230214T140000
DTEND;TZID=Europe/Paris:20230214T180000
DTSTAMP:20260420T131707
CREATED:20230124T103317Z
LAST-MODIFIED:20230124T103317Z
UID:13303-1676383200-1676397600@www.polletanim.fr
SUMMARY:Piscine les Bains
DESCRIPTION:Rendez vous à 14h00 au Centre Social et Culturel l’Archipel. \nInscription obligatoire\, nombre de places limitées.
URL:https://www.polletanim.fr/animation/piscine-les-bains-4/
LOCATION:Archipel\, Dieppe
CATEGORIES:Adultes,Animation famille
ATTACH;FMTTYPE=image/jpeg:https://www.polletanim.fr/wp-content/uploads/2023/01/swimming-3674679__340.jpg
END:VEVENT
BEGIN:VEVENT
DTSTART;TZID=Europe/Paris:20230215T100000
DTEND;TZID=Europe/Paris:20230215T120000
DTSTAMP:20260420T131707
CREATED:20230124T104301Z
LAST-MODIFIED:20230124T104301Z
UID:13306-1676455200-1676462400@www.polletanim.fr
SUMMARY:Multisports
DESCRIPTION:Rendez vous à 10h00 au Centre Social et Culturel l’Archipel. \nInscription obligatoire\, nombre de places limitées.
URL:https://www.polletanim.fr/animation/multisports-3/
LOCATION:Archipel\, Dieppe
CATEGORIES:Adultes
ATTACH;FMTTYPE=image/jpeg:https://www.polletanim.fr/wp-content/uploads/2023/01/soccer-7392831__340.jpg
END:VEVENT
BEGIN:VEVENT
DTSTART;TZID=Europe/Paris:20230215T140000
DTEND;TZID=Europe/Paris:20230215T180000
DTSTAMP:20260420T131707
CREATED:20230124T124539Z
LAST-MODIFIED:20230124T124539Z
UID:13309-1676469600-1676484000@www.polletanim.fr
SUMMARY:Yoga
DESCRIPTION:Rendez vous à 14h00 au Centre Social et Culturel l’Archipel. \nInscription obligatoire\, nombre de places limitées.
URL:https://www.polletanim.fr/animation/yoga/
LOCATION:Archipel\, Dieppe
CATEGORIES:Adultes,Animation famille
ATTACH;FMTTYPE=image/webp:https://www.polletanim.fr/wp-content/uploads/2022/12/yoga-4650150__340.webp
END:VEVENT
BEGIN:VEVENT
DTSTART;TZID=Europe/Paris:20230216T100000
DTEND;TZID=Europe/Paris:20230216T120000
DTSTAMP:20260420T131707
CREATED:20230124T124839Z
LAST-MODIFIED:20230124T124839Z
UID:13312-1676541600-1676548800@www.polletanim.fr
SUMMARY:Sophrologie
DESCRIPTION:Rendez vous à 10h00 au Centre Social et Culturel l’Archipel. \nInscription obligatoire\, nombre de places limitées.
URL:https://www.polletanim.fr/animation/sophrologie-44/
LOCATION:Archipel\, Dieppe
CATEGORIES:Adultes
ATTACH;FMTTYPE=image/webp:https://www.polletanim.fr/wp-content/uploads/2022/12/yoga-4650150__340.webp
END:VEVENT
BEGIN:VEVENT
DTSTART;TZID=Europe/Paris:20230216T170000
DTEND;TZID=Europe/Paris:20230216T170000
DTSTAMP:20260420T131707
CREATED:20230124T125211Z
LAST-MODIFIED:20230124T125211Z
UID:13314-1676566800-1676566800@www.polletanim.fr
SUMMARY:Self control
DESCRIPTION:Rendez vous à 17h00 au Centre Social et Culturel l’Archipel. \nInscription obligatoire\, nombre de places limitées.
URL:https://www.polletanim.fr/animation/self-control-13/
CATEGORIES:Adultes
ATTACH;FMTTYPE=image/jpeg:https://www.polletanim.fr/wp-content/uploads/2022/12/self-controm.jpg
END:VEVENT
BEGIN:VEVENT
DTSTART;TZID=Europe/Paris:20230217T090000
DTEND;TZID=Europe/Paris:20230217T120000
DTSTAMP:20260420T131707
CREATED:20230124T125749Z
LAST-MODIFIED:20230124T130011Z
UID:13317-1676624400-1676635200@www.polletanim.fr
SUMMARY:Préparation des grands jeux
DESCRIPTION:Rendez vous à 9h00 au Pollet. \nInscription obligatoire\, nombre de places limitées.
URL:https://www.polletanim.fr/animation/preparation-des-grands-jeux/
LOCATION:Le Pollet Dieppe 76200\, Le Pollet \, Dieppe\, 76200\, France
CATEGORIES:Adultes,Animation famille
ATTACH;FMTTYPE=image/jpeg:https://www.polletanim.fr/wp-content/uploads/2022/12/istockphoto-1391397730-170667a.jpg
END:VEVENT
BEGIN:VEVENT
DTSTART;TZID=Europe/Paris:20230217T140000
DTEND;TZID=Europe/Paris:20230217T180000
DTSTAMP:20260420T131707
CREATED:20230124T141742Z
LAST-MODIFIED:20230124T141742Z
UID:13322-1676642400-1676656800@www.polletanim.fr
SUMMARY:Grands jeux défis
DESCRIPTION:Rendez vous à 14h00 au Pollet. \nInscription obligatoire\, nombre de places limitées.
URL:https://www.polletanim.fr/animation/grands-jeux-defis/
LOCATION:Le Pollet Dieppe 76200\, Le Pollet \, Dieppe\, 76200\, France
CATEGORIES:Adultes,Animation famille
ATTACH;FMTTYPE=image/jpeg:https://www.polletanim.fr/wp-content/uploads/2022/12/istockphoto-1391397730-170667a.jpg
END:VEVENT
BEGIN:VEVENT
DTSTART;TZID=Europe/Paris:20230221T123000
DTEND;TZID=Europe/Paris:20230221T180000
DTSTAMP:20260420T131707
CREATED:20230124T144205Z
LAST-MODIFIED:20230124T144205Z
UID:13330-1676982600-1677002400@www.polletanim.fr
SUMMARY:Visite guidée du centre de tri SMEDAR
DESCRIPTION:Rendez vous à 12h30 au Centre Social et Culturel l’Archipel. \nInscription obligatoire\, nombre de places limitées.
URL:https://www.polletanim.fr/animation/visite-guidee-du-centre-de-tri-smedar/
LOCATION:Archipel\, Dieppe
CATEGORIES:Adultes
ATTACH;FMTTYPE=image/webp:https://www.polletanim.fr/wp-content/uploads/2023/01/collection-6203310__340.webp
END:VEVENT
BEGIN:VEVENT
DTSTART;TZID=Europe/Paris:20230222T140000
DTEND;TZID=Europe/Paris:20230222T180000
DTSTAMP:20260420T131707
CREATED:20230124T144649Z
LAST-MODIFIED:20230124T144649Z
UID:13333-1677074400-1677088800@www.polletanim.fr
SUMMARY:Tennis de table
DESCRIPTION:Rendez vous à 14h00 au Centre Social et Culturel l’Archipel. \nInscription obligatoire\, nombre de places limitées.
URL:https://www.polletanim.fr/animation/tennis-de-table-3/
LOCATION:Archipel\, Dieppe
CATEGORIES:Adultes,Animation famille
ATTACH;FMTTYPE=image/webp:https://www.polletanim.fr/wp-content/uploads/2023/01/table-tennis-7216579__340.webp
END:VEVENT
BEGIN:VEVENT
DTSTART;TZID=Europe/Paris:20230223T100000
DTEND;TZID=Europe/Paris:20230223T120000
DTSTAMP:20260420T131707
CREATED:20230124T145335Z
LAST-MODIFIED:20230124T145335Z
UID:13337-1677146400-1677153600@www.polletanim.fr
SUMMARY:Sophrologie
DESCRIPTION:Rendez vous à 10h00 au Centre Social et Culturel l’Archipel. \nInscription obligatoire\, nombre de places limitées.
URL:https://www.polletanim.fr/animation/sophrologie-45/
LOCATION:Archipel\, Dieppe
CATEGORIES:Adultes
ATTACH;FMTTYPE=image/webp:https://www.polletanim.fr/wp-content/uploads/2022/12/yoga-4650150__340.webp
END:VEVENT
BEGIN:VEVENT
DTSTART;TZID=Europe/Paris:20230227T140000
DTEND;TZID=Europe/Paris:20230227T180000
DTSTAMP:20260420T131707
CREATED:20230124T150901Z
LAST-MODIFIED:20230124T150901Z
UID:13345-1677506400-1677520800@www.polletanim.fr
SUMMARY:Cuisine équilibrée
DESCRIPTION:Rendez vous à 14h00 au Centre Social et Culturel l’Archipel. \nInscription obligatoire\, nombre de places limitées.
URL:https://www.polletanim.fr/animation/cuisine-equilibree-11/
LOCATION:Archipel\, Dieppe
CATEGORIES:Adultes,Animation famille
ATTACH;FMTTYPE=image/jpeg:https://www.polletanim.fr/wp-content/uploads/2022/12/Cuisine-equilibre.jpg
END:VEVENT
END:VCALENDAR